BEGIN:VCALENDAR
VERSION:2.0
PRODID:-//Word of Life Church - ECPv6.15.20//NONSGML v1.0//EN
CALSCALE:GREGORIAN
METHOD:PUBLISH
X-ORIGINAL-URL:https://wordoflifeashington.org
X-WR-CALDESC:Events for Word of Life Church
REFRESH-INTERVAL;VALUE=DURATION:PT1H
X-Robots-Tag:noindex
X-PUBLISHED-TTL:PT1H
BEGIN:VTIMEZONE
TZID:Europe/London
BEGIN:DAYLIGHT
TZOFFSETFROM:+0000
TZOFFSETTO:+0100
TZNAME:BST
DTSTART:20250330T010000
END:DAYLIGHT
BEGIN:STANDARD
TZOFFSETFROM:+0100
TZOFFSETTO:+0000
TZNAME:GMT
DTSTART:20251026T010000
END:STANDARD
BEGIN:DAYLIGHT
TZOFFSETFROM:+0000
TZOFFSETTO:+0100
TZNAME:BST
DTSTART:20260329T010000
END:DAYLIGHT
BEGIN:STANDARD
TZOFFSETFROM:+0100
TZOFFSETTO:+0000
TZNAME:GMT
DTSTART:20261025T010000
END:STANDARD
BEGIN:DAYLIGHT
TZOFFSETFROM:+0000
TZOFFSETTO:+0100
TZNAME:BST
DTSTART:20270328T010000
END:DAYLIGHT
BEGIN:STANDARD
TZOFFSETFROM:+0100
TZOFFSETTO:+0000
TZNAME:GMT
DTSTART:20271031T010000
END:STANDARD
END:VTIMEZONE
BEGIN:VEVENT
DTSTART;TZID=Europe/London:20260524T103000
DTEND;TZID=Europe/London:20260524T123000
DTSTAMP:20260422T030335
CREATED:20260224T075126Z
LAST-MODIFIED:20260224T075126Z
UID:3101-1779618600-1779625800@wordoflifeashington.org
SUMMARY:Children's Day Celebration 2026
DESCRIPTION:You and your family are warmly invited to join us for our Children’s Day Celebration — a joyful and family-oriented service dedicated to celebrating the gift\, potential\, and promise of every child. \nChildren are a blessing from the Lord and a vital part of our church and community. This special day will be filled with vibrant worship\, presentations by our children\, words of encouragement\, and moments designed to inspire both young and old. It will be a beautiful opportunity for families to gather\, celebrate\, and thank God for the next generation.
URL:https://wordoflifeashington.org/event/childrens-day-celebration-2026/
LOCATION:Word of Life Church\, Ashington\, 71\, North Seaton Road\, Ashington\, United Kingdom
END:VEVENT
END:VCALENDAR