BEGIN:VCALENDAR
VERSION:2.0
PRODID:-//Word of Life Church - ECPv6.15.20//NONSGML v1.0//EN
CALSCALE:GREGORIAN
METHOD:PUBLISH
X-ORIGINAL-URL:https://wordoflifeashington.org
X-WR-CALDESC:Events for Word of Life Church
REFRESH-INTERVAL;VALUE=DURATION:PT1H
X-Robots-Tag:noindex
X-PUBLISHED-TTL:PT1H
BEGIN:VTIMEZONE
TZID:Europe/London
BEGIN:DAYLIGHT
TZOFFSETFROM:+0000
TZOFFSETTO:+0100
TZNAME:BST
DTSTART:20250330T010000
END:DAYLIGHT
BEGIN:STANDARD
TZOFFSETFROM:+0100
TZOFFSETTO:+0000
TZNAME:GMT
DTSTART:20251026T010000
END:STANDARD
BEGIN:DAYLIGHT
TZOFFSETFROM:+0000
TZOFFSETTO:+0100
TZNAME:BST
DTSTART:20260329T010000
END:DAYLIGHT
BEGIN:STANDARD
TZOFFSETFROM:+0100
TZOFFSETTO:+0000
TZNAME:GMT
DTSTART:20261025T010000
END:STANDARD
BEGIN:DAYLIGHT
TZOFFSETFROM:+0000
TZOFFSETTO:+0100
TZNAME:BST
DTSTART:20270328T010000
END:DAYLIGHT
BEGIN:STANDARD
TZOFFSETFROM:+0100
TZOFFSETTO:+0000
TZNAME:GMT
DTSTART:20271031T010000
END:STANDARD
END:VTIMEZONE
BEGIN:VEVENT
DTSTART;TZID=Europe/London:20260405T103000
DTEND;TZID=Europe/London:20260405T123000
DTSTAMP:20260421T170704
CREATED:20260224T074256Z
LAST-MODIFIED:20260224T074256Z
UID:3099-1775385000-1775392200@wordoflifeashington.org
SUMMARY:Easter Sunday Celebration
DESCRIPTION:You are warmly invited to join us for our Easter Sunday Celebration as we rejoice in the resurrection of our Lord and Saviour\, Jesus Christ. \nEaster is a glorious reminder of hope renewed\, love demonstrated\, and victory secured. On this special Sunday\, we will gather in joyful worship to celebrate the risen Christ and the new life we have through Him. It will be a powerful time of praise\, thanksgiving\, and encouragement for the whole family.
URL:https://wordoflifeashington.org/event/easter-sunday-celebration/
LOCATION:Word of Life Church\, Ashington\, 71\, North Seaton Road\, Ashington\, United Kingdom
END:VEVENT
END:VCALENDAR