BEGIN:VCALENDAR
VERSION:2.0
PRODID:-//Word of Life Church - ECPv6.15.20//NONSGML v1.0//EN
CALSCALE:GREGORIAN
METHOD:PUBLISH
X-WR-CALNAME:Word of Life Church
X-ORIGINAL-URL:https://wordoflifeashington.org
X-WR-CALDESC:Events for Word of Life Church
REFRESH-INTERVAL;VALUE=DURATION:PT1H
X-Robots-Tag:noindex
X-PUBLISHED-TTL:PT1H
BEGIN:VTIMEZONE
TZID:Europe/London
BEGIN:DAYLIGHT
TZOFFSETFROM:+0000
TZOFFSETTO:+0100
TZNAME:BST
DTSTART:20250330T010000
END:DAYLIGHT
BEGIN:STANDARD
TZOFFSETFROM:+0100
TZOFFSETTO:+0000
TZNAME:GMT
DTSTART:20251026T010000
END:STANDARD
BEGIN:DAYLIGHT
TZOFFSETFROM:+0000
TZOFFSETTO:+0100
TZNAME:BST
DTSTART:20260329T010000
END:DAYLIGHT
BEGIN:STANDARD
TZOFFSETFROM:+0100
TZOFFSETTO:+0000
TZNAME:GMT
DTSTART:20261025T010000
END:STANDARD
BEGIN:DAYLIGHT
TZOFFSETFROM:+0000
TZOFFSETTO:+0100
TZNAME:BST
DTSTART:20270328T010000
END:DAYLIGHT
BEGIN:STANDARD
TZOFFSETFROM:+0100
TZOFFSETTO:+0000
TZNAME:GMT
DTSTART:20271031T010000
END:STANDARD
END:VTIMEZONE
BEGIN:VEVENT
DTSTART;TZID=Europe/London:20260403T103000
DTEND;TZID=Europe/London:20260403T113000
DTSTAMP:20260421T153135
CREATED:20260223T230813Z
LAST-MODIFIED:20260224T073854Z
UID:3097-1775212200-1775215800@wordoflifeashington.org
SUMMARY:Good Friday Reflection
DESCRIPTION:Join us on Friday\, April 3\, from 10:30 AM to 11:30 AM for a solemn and contemplative Good Friday Reflection Service. \nOn this sacred day\, we gather to reflect on the sacrifice of our Lord Jesus Christ\, to remember the depth of His love\, and to meditate on the power of the cross. Through Scripture\, prayer\, worship\, and quiet reflection\, we will pause to consider what Good Friday truly means for us today.
URL:https://wordoflifeashington.org/event/good-friday-reflection/
LOCATION:Word of Life Church\, Ashington\, 71\, North Seaton Road\, Ashington\, United Kingdom
END:VEVENT
END:VCALENDAR